BEGIN:VCALENDAR
VERSION:2.0
PRODID:-//eventon.com NONSGML v1.0//EN
CALSCALE:GREGORIAN
METHOD:PUBLISH
BEGIN:VEVENT
UID:69e6774bc7aa5
DTSTAMP:20260420T185819Z
DTSTART:19700101T060000Z
DTEND:19700101T060000Z
LOCATION:Hoffman Estates
SUMMARY:2022 Elderwerks Aging Better Expo
DESCRIPTION:Dutton Casey &amp; Mesoloras will have an exhibitor booth at th
 e 2022 Elderwerks Aging Better Expo in Hoffman Estates. &nbsp; For more inf
 ormation on this expo\,  visit this link: https://www.elderwerks.org/resour
 ces/seniorfair/default.aspx \nhttps://duttonelderlaw.com/events/2022-elder
 werks-aging-better-expo/
URL:https://duttonelderlaw.com/events/2022-elderwerks-aging-better-expo/
END:VEVENT
END:VCALENDAR