BEGIN:VCALENDAR
VERSION:2.0
PRODID:-//eventon.com NONSGML v1.0//EN
CALSCALE:GREGORIAN
METHOD:PUBLISH
BEGIN:VEVENT
UID:69e88c864ba88
DTSTAMP:20260422T085326Z
DTSTART:20230330T170000Z
DTEND:20230330T180000Z
LOCATION:Webinar
SUMMARY:Debunking Medicare and Medicaid Myths
DESCRIPTION:This session presented by Helen Mesoloras\,  JD\,  CELA\,  in c
 onjunction with Chicago Methodist Senior Services\,  will debunk 14 commonl
 y held myths about Medicare and Medicaid\,  show you how to prepare for the
  reality of long-term care\,  and how to take advantage of opportunities to
  maximize your quality of life. Click[..]\nhttps://duttonelderlaw.com/event
 s/debunking-medicare-and-medicaid-myths-3/
URL:https://duttonelderlaw.com/events/debunking-medicare-and-medicaid-myths-3/
END:VEVENT
END:VCALENDAR