BEGIN:VCALENDAR
VERSION:2.0
PRODID:-//eventon.com NONSGML v1.0//EN
CALSCALE:GREGORIAN
METHOD:PUBLISH
BEGIN:VEVENT
UID:69e51ca528e5b
DTSTAMP:20260419T181917Z
DTSTART:20230520T160000Z
DTEND:20230520T173000Z
LOCATION:Tinley Park Library 7851 Timber Drive
SUMMARY:Prepare to Care
DESCRIPTION:Taking care of an aging family member is one of the most import
 ant roles we will take on during our lives. It is also one of the most dau
 nting and demanding roles we will ever experience. What legal documents do 
 you need to put in place? What health care and financial[..]\nhttps://dutto
 nelderlaw.com/events/prepare-to-care-for-a-loved-one-with-special-needs/
URL:https://duttonelderlaw.com/events/prepare-to-care-for-a-loved-one-with-special-needs/
END:VEVENT
END:VCALENDAR