BEGIN:VCALENDAR
VERSION:2.0
PRODID:-//eventon.com NONSGML v1.0//EN
CALSCALE:GREGORIAN
METHOD:PUBLISH
BEGIN:VEVENT
UID:69ec023a7c610
DTSTAMP:20260424T235226Z
DTSTART:20240302T170000Z
DTEND:20240302T180000Z
LOCATION:
SUMMARY:Ethical Principals and Special Guardianship Situations
DESCRIPTION:When a patient has an uncertain level of cognitive capacity\,  
 what is the legal hierarchy for surrogate decision-making? How can you be s
 ure you are following the correct person&#8217;s directives? How can emerge
 ncy guardianship be prevented? This session will discuss such questions and
  review the legal remedies to pursue when[..]\nhttps://duttonelderlaw.com/e
 vents/ethical-principals-and-special-guardianship-situations/
URL:https://duttonelderlaw.com/events/ethical-principals-and-special-guardianship-situations/
END:VEVENT
END:VCALENDAR