BEGIN:VCALENDAR
VERSION:2.0
PRODID:-//eventon.com NONSGML v1.0//EN
CALSCALE:GREGORIAN
METHOD:PUBLISH
BEGIN:VEVENT
UID:69e73b2532c5b
DTSTAMP:20260421T085357Z
DTSTART:20240523T170000Z
DTEND:20240523T180000Z
LOCATION:
SUMMARY:Ethics of Decision-Making
DESCRIPTION:When a patient has an uncertain level of cognitive capacity\,  
 what is the legal hierarchy for surrogate decision-making? How can you be s
 ure you are following the correct person&#8217;s directives? How can emerge
 ncy guardianship be prevented? This session will discuss such questions and
  review the legal remedies to pursue when[..]\nhttps://duttonelderlaw.com/e
 vents/ethics-of-decision-making-6/
URL:https://duttonelderlaw.com/events/ethics-of-decision-making-6/
END:VEVENT
END:VCALENDAR