BEGIN:VCALENDAR
VERSION:2.0
PRODID:-//eventon.com NONSGML v1.0//EN
CALSCALE:GREGORIAN
METHOD:PUBLISH
BEGIN:VEVENT
UID:69e5f9ed0def3
DTSTAMP:20260420T100325Z
DTSTART:20250708T173000Z
DTEND:20250708T183000Z
LOCATION:Northwestern Medicine Lake Forest Hospital 1000 N Westmoreland Road
SUMMARY:Ethics of Decision-Making
DESCRIPTION:When a patient has an uncertain level of cognitive capacity\,  
 what is the legal hierarchy for surrogate decision-making? How can you be s
 ure you are following the correct person&#8217;s directives? How can emerge
 ncy guardianship be prevented? This session will discuss such questions and
  review the legal remedies to pursue when[..]\nhttps://duttonelderlaw.com/e
 vents/ethics-of-decision-making-7/
URL:https://duttonelderlaw.com/events/ethics-of-decision-making-7/
END:VEVENT
END:VCALENDAR