BEGIN:VCALENDAR
VERSION:2.0
PRODID:-//eventon.com NONSGML v1.0//EN
CALSCALE:GREGORIAN
METHOD:PUBLISH
BEGIN:VEVENT
UID:69e74fe283b26
DTSTAMP:20260421T102226Z
DTSTART:20250813T170000Z
DTEND:20250813T180000Z
LOCATION:Advocate Christ Medical Center 4440 W 95th St
SUMMARY:Ethics of Decision-Making
DESCRIPTION:When a patient has an uncertain level of cognitive capacity\,  
 what is the legal hierarchy for surrogate decision-making? How can you be s
 ure you are following the correct person&#8217;s directives? How can emerge
 ncy guardianship be prevented? This session will discuss such questions and
  review the legal remedies to pursue when[..]\nhttps://duttonelderlaw.com/e
 vents/ethics-of-decision-making-8/
URL:https://duttonelderlaw.com/events/ethics-of-decision-making-8/
END:VEVENT
END:VCALENDAR