BEGIN:VCALENDAR
VERSION:2.0
PRODID:-//eventon.com NONSGML v1.0//EN
CALSCALE:GREGORIAN
METHOD:PUBLISH
BEGIN:VEVENT
UID:69e75238f2549
DTSTAMP:20260421T103224Z
DTSTART:20251009T190000Z
DTEND:20251009T203000Z
LOCATION:Webinar
SUMMARY:Legal Planning for Living with a Chronic Medical Condition
DESCRIPTION:Courtney Veneri\,  JD\,  presents on the legal planning to exec
 ute when you or a loved one is living with a chronic medical condition. &nb
 sp; &nbsp;\nhttps://duttonelderlaw.com/events/legal-planning-for-living-wit
 h-a-chronic-medical-condition-12/
URL:https://duttonelderlaw.com/events/legal-planning-for-living-with-a-chronic-medical-condition-12/
END:VEVENT
END:VCALENDAR