BEGIN:VCALENDAR
VERSION:2.0
PRODID:-//eventon.com NONSGML v1.0//EN
CALSCALE:GREGORIAN
METHOD:PUBLISH
BEGIN:VEVENT
UID:69e74c9f22d5a
DTSTAMP:20260421T100831Z
DTSTART:20260108T210000Z
DTEND:20260108T220000Z
LOCATION:
SUMMARY:A Legal Roadmap to Aging Well
DESCRIPTION:We all know what’s needed to age well regarding physical\,  c
 ognitive\,  and mental health. However\,  what about financial and legal he
 alth? Attend this program\,  presented by an elder law attorney\,  to learn
  how proper advanced legal planning can help ensure you and your loved ones
  are setup for success. Presented[..]\nhttps://duttonelderlaw.com/events/a-
 legal-roadmap-to-aging-well-2/
URL:https://duttonelderlaw.com/events/a-legal-roadmap-to-aging-well-2/
END:VEVENT
END:VCALENDAR